BEGIN:VCALENDAR
VERSION:2.0
PRODID:-//DNA Wine Lounge - ECPv6.15.20//NONSGML v1.0//EN
CALSCALE:GREGORIAN
METHOD:PUBLISH
X-WR-CALNAME:DNA Wine Lounge
X-ORIGINAL-URL:https://dnawinelounge.com
X-WR-CALDESC:Events for DNA Wine Lounge
REFRESH-INTERVAL;VALUE=DURATION:PT1H
X-Robots-Tag:noindex
X-PUBLISHED-TTL:PT1H
BEGIN:VTIMEZONE
TZID:UTC
BEGIN:STANDARD
TZOFFSETFROM:+0000
TZOFFSETTO:+0000
TZNAME:UTC
DTSTART:20230101T000000
END:STANDARD
END:VTIMEZONE
BEGIN:VEVENT
DTSTART;TZID=UTC:20241214T180000
DTEND;TZID=UTC:20241214T210000
DTSTAMP:20260423T052524
CREATED:20241214T171221Z
LAST-MODIFIED:20241214T171221Z
UID:1331-1734199200-1734210000@dnawinelounge.com
SUMMARY:Live Music- Patrick Walsh
DESCRIPTION:Patrick Walsh is back at DNA with his acoustic tunes! Come by and take a break from the hustle and bustle of the holiday season! Great wine and good company always at Granite Bay’s best wine lounge.
URL:https://dnawinelounge.com/event/live-music-patrick-walsh-2/
LOCATION:DNA Wine Lounge\, 9719 Village Center Dr #100\, Granite Bay\, CA\, 95746\, United States
END:VEVENT
END:VCALENDAR