BEGIN:VCALENDAR
VERSION:2.0
PRODID:-//DNA Wine Lounge - ECPv6.15.20//NONSGML v1.0//EN
CALSCALE:GREGORIAN
METHOD:PUBLISH
X-ORIGINAL-URL:https://dnawinelounge.com
X-WR-CALDESC:Events for DNA Wine Lounge
REFRESH-INTERVAL;VALUE=DURATION:PT1H
X-Robots-Tag:noindex
X-PUBLISHED-TTL:PT1H
BEGIN:VTIMEZONE
TZID:UTC
BEGIN:STANDARD
TZOFFSETFROM:+0000
TZOFFSETTO:+0000
TZNAME:UTC
DTSTART:20230101T000000
END:STANDARD
END:VTIMEZONE
BEGIN:VEVENT
DTSTART;TZID=UTC:20241218T170000
DTEND;TZID=UTC:20241218T190000
DTSTAMP:20260422T225849
CREATED:20241214T074550Z
LAST-MODIFIED:20241214T074550Z
UID:1320-1734541200-1734548400@dnawinelounge.com
SUMMARY:Wine & Warrior- Damsel in Defense Class
DESCRIPTION:Learn about situational awareness and how to protect yourself in today’s world! Bring all the woman you know\, love and care about to this incredible class at DNA Wine Lounge!
URL:https://dnawinelounge.com/event/wine-warrior-damsel-in-defense-class/
LOCATION:DNA Wine Lounge\, 9719 Village Center Dr #100\, Granite Bay\, CA\, 95746\, United States
END:VEVENT
END:VCALENDAR