BEGIN:VCALENDAR
VERSION:2.0
PRODID:-//DNA Wine Lounge - ECPv6.15.20//NONSGML v1.0//EN
CALSCALE:GREGORIAN
METHOD:PUBLISH
X-ORIGINAL-URL:https://dnawinelounge.com
X-WR-CALDESC:Events for DNA Wine Lounge
REFRESH-INTERVAL;VALUE=DURATION:PT1H
X-Robots-Tag:noindex
X-PUBLISHED-TTL:PT1H
BEGIN:VTIMEZONE
TZID:UTC
BEGIN:STANDARD
TZOFFSETFROM:+0000
TZOFFSETTO:+0000
TZNAME:UTC
DTSTART:20230101T000000
END:STANDARD
END:VTIMEZONE
BEGIN:VEVENT
DTSTART;TZID=UTC:20241228T180000
DTEND;TZID=UTC:20241228T210000
DTSTAMP:20260420T195317
CREATED:20241214T171055Z
LAST-MODIFIED:20241214T171108Z
UID:1327-1735408800-1735419600@dnawinelounge.com
SUMMARY:Live Music- Acoustic Two Man Jam
DESCRIPTION:We are excited to have the talented duo\, Acoustic Two Man Jam back performing at the lounge! Invite your friends and enjoy a relaxing evening after the holidays with us at DNA!
URL:https://dnawinelounge.com/event/1327/
LOCATION:DNA Wine Lounge\, 9719 Village Center Dr #100\, Granite Bay\, CA\, 95746\, United States
END:VEVENT
END:VCALENDAR