BEGIN:VCALENDAR
VERSION:2.0
PRODID:-//DNA Wine Lounge - ECPv6.15.20//NONSGML v1.0//EN
CALSCALE:GREGORIAN
METHOD:PUBLISH
X-WR-CALNAME:DNA Wine Lounge
X-ORIGINAL-URL:https://dnawinelounge.com
X-WR-CALDESC:Events for DNA Wine Lounge
REFRESH-INTERVAL;VALUE=DURATION:PT1H
X-Robots-Tag:noindex
X-PUBLISHED-TTL:PT1H
BEGIN:VTIMEZONE
TZID:UTC
BEGIN:STANDARD
TZOFFSETFROM:+0000
TZOFFSETTO:+0000
TZNAME:UTC
DTSTART:20230101T000000
END:STANDARD
END:VTIMEZONE
BEGIN:VEVENT
DTSTART;TZID=UTC:20241231T180000
DTEND;TZID=UTC:20241231T210000
DTSTAMP:20260420T155340
CREATED:20241214T073556Z
LAST-MODIFIED:20241214T073556Z
UID:1317-1735668000-1735678800@dnawinelounge.com
SUMMARY:Early New Years Celebration
DESCRIPTION:Join us for an unforgettable New Year’s Eve celebration at the wine lounge featuring live music by the talented Quinn Hedges! Toast to the new year with our great selection of wines and incredible culinary bites! \nEnjoy our early ball drop celebration at 9pm where you can revel in the excitement of the countdown alongside friends and loved ones! It’s the perfect opportunity to experience a night of fun with incredible wines! \nDon’t miss out on the chance to bring in the new year at Granite Bay’s best wine lounge!
URL:https://dnawinelounge.com/event/early-new-years-celebration/
LOCATION:DNA Wine Lounge\, 9719 Village Center Dr #100\, Granite Bay\, CA\, 95746\, United States
END:VEVENT
END:VCALENDAR