BEGIN:VCALENDAR
VERSION:2.0
PRODID:-//DNA Wine Lounge - ECPv6.15.20//NONSGML v1.0//EN
CALSCALE:GREGORIAN
METHOD:PUBLISH
X-WR-CALNAME:DNA Wine Lounge
X-ORIGINAL-URL:https://dnawinelounge.com
X-WR-CALDESC:Events for DNA Wine Lounge
REFRESH-INTERVAL;VALUE=DURATION:PT1H
X-Robots-Tag:noindex
X-PUBLISHED-TTL:PT1H
BEGIN:VTIMEZONE
TZID:UTC
BEGIN:STANDARD
TZOFFSETFROM:+0000
TZOFFSETTO:+0000
TZNAME:UTC
DTSTART:20240101T000000
END:STANDARD
END:VTIMEZONE
BEGIN:VEVENT
DTSTART;TZID=UTC:20250401T180000
DTEND;TZID=UTC:20250401T210000
DTSTAMP:20260422T090340
CREATED:20250331T215243Z
LAST-MODIFIED:20250331T215243Z
UID:1456-1743530400-1743541200@dnawinelounge.com
SUMMARY:Trivia Night
DESCRIPTION:Join us for our weekly Tuesday Trivia Night! Test your knowledge\, drink great wine and enjoy our incredible bites!
URL:https://dnawinelounge.com/event/trivia-night-8/
LOCATION:DNA Wine Lounge\, 9719 Village Center Dr #100\, Granite Bay\, CA\, 95746\, United States
END:VEVENT
BEGIN:VEVENT
DTSTART;TZID=UTC:20250405T180000
DTEND;TZID=UTC:20250405T210000
DTSTAMP:20260422T090341
CREATED:20250325T034606Z
LAST-MODIFIED:20250325T034606Z
UID:1440-1743876000-1743886800@dnawinelounge.com
SUMMARY:Live Music- Dylan Vroom
DESCRIPTION:Dylan Vroom is kicking off our Saturday night music for the month of April. Come out to enjoy his incredible tunes and try out our new spring food menu with your favorite bottle of wine! We can’t wait to see you there!
URL:https://dnawinelounge.com/event/live-music-dylan-vroom-8/
LOCATION:DNA Wine Lounge\, 9719 Village Center Dr #100\, Granite Bay\, CA\, 95746\, United States
END:VEVENT
BEGIN:VEVENT
DTSTART;TZID=UTC:20250408T180000
DTEND;TZID=UTC:20250408T210000
DTSTAMP:20260422T090341
CREATED:20250331T215520Z
LAST-MODIFIED:20250331T215520Z
UID:1458-1744135200-1744146000@dnawinelounge.com
SUMMARY:Trivia Night
DESCRIPTION:Join us for our weekly Tuesday Trivia Night! Test your knowledge\, drink great wine and enjoy our incredible bites!
URL:https://dnawinelounge.com/event/trivia-night-13/
LOCATION:DNA Wine Lounge\, 9719 Village Center Dr #100\, Granite Bay\, CA\, 95746\, United States
END:VEVENT
BEGIN:VEVENT
DTSTART;TZID=UTC:20250412T180000
DTEND;TZID=UTC:20250412T210000
DTSTAMP:20260422T090341
CREATED:20250325T034705Z
LAST-MODIFIED:20250325T034705Z
UID:1442-1744480800-1744491600@dnawinelounge.com
SUMMARY:Live Music- Travis Roseberry
DESCRIPTION:We are excited to welcome back the talented Travis Roseberry! Spend your Saturday at the lounge and come out to enjoy his great acoustic tunes! Food\, wine and music…we’ll see you there!
URL:https://dnawinelounge.com/event/live-music-travis-roseberry-4/
LOCATION:DNA Wine Lounge\, 9719 Village Center Dr #100\, Granite Bay\, CA\, 95746\, United States
END:VEVENT
BEGIN:VEVENT
DTSTART;TZID=UTC:20250415T180000
DTEND;TZID=UTC:20250415T210000
DTSTAMP:20260422T090341
CREATED:20250331T215550Z
LAST-MODIFIED:20250331T215550Z
UID:1460-1744740000-1744750800@dnawinelounge.com
SUMMARY:Trivia Night
DESCRIPTION:Join us for our weekly Tuesday Trivia Night! Test your knowledge\, drink great wine and enjoy our incredible bites!
URL:https://dnawinelounge.com/event/trivia-night-14/
LOCATION:DNA Wine Lounge\, 9719 Village Center Dr #100\, Granite Bay\, CA\, 95746\, United States
END:VEVENT
BEGIN:VEVENT
DTSTART;TZID=UTC:20250419T180000
DTEND;TZID=UTC:20250419T210000
DTSTAMP:20260422T090341
CREATED:20250325T034926Z
LAST-MODIFIED:20250325T034926Z
UID:1444-1745085600-1745096400@dnawinelounge.com
SUMMARY:Live Music- Hans Eberbach
DESCRIPTION:Join us Saturday to welcome a new local artist to DNA! Hans Eberbach will be at the lounge and we hope you will be too. He is a talented singer/songwriter that is sure to be a good time! Invite your friends and we’ll see you there!
URL:https://dnawinelounge.com/event/live-music-hans-eberbach/
LOCATION:DNA Wine Lounge\, 9719 Village Center Dr #100\, Granite Bay\, CA\, 95746\, United States
END:VEVENT
BEGIN:VEVENT
DTSTART;TZID=UTC:20250422T180000
DTEND;TZID=UTC:20250422T210000
DTSTAMP:20260422T090341
CREATED:20250331T215701Z
LAST-MODIFIED:20250331T215701Z
UID:1462-1745344800-1745355600@dnawinelounge.com
SUMMARY:Trivia Night
DESCRIPTION:Join us for our weekly Tuesday Trivia Night! Test your knowledge\, drink great wine and enjoy our incredible bites!
URL:https://dnawinelounge.com/event/trivia-night-15/
LOCATION:DNA Wine Lounge\, 9719 Village Center Dr #100\, Granite Bay\, CA\, 95746\, United States
END:VEVENT
BEGIN:VEVENT
DTSTART;TZID=UTC:20250424T160000
DTEND;TZID=UTC:20250424T180000
DTSTAMP:20260422T090341
CREATED:20250410T161852Z
LAST-MODIFIED:20250410T161852Z
UID:1467-1745510400-1745517600@dnawinelounge.com
SUMMARY:Meet the Winery Event
DESCRIPTION:Join us this month for our Meet the Wineries event (yes plural) on Thursday\, April 24th! This is your chance to taste exceptional wines from multiple wineries. You’ll need to be there to take advantage of some unbelievable pricing and exclusive deals being offered. Experience Napa Valley Cabernets and Blends from Conn Creek\, Cornerstone\, and Teeter Totter\, along with a selection of Sparkling Wines. Don’t miss this fantastic opportunity to learn more about these great family owned wineries. \nComplimentary to wine club members and $20 at the door
URL:https://dnawinelounge.com/event/meet-the-winery-event/
LOCATION:DNA Wine Lounge\, 9719 Village Center Dr #100\, Granite Bay\, CA\, 95746\, United States
END:VEVENT
BEGIN:VEVENT
DTSTART;TZID=UTC:20250426T180000
DTEND;TZID=UTC:20250426T210000
DTSTAMP:20260422T090341
CREATED:20250325T035023Z
LAST-MODIFIED:20250325T035023Z
UID:1447-1745690400-1745701200@dnawinelounge.com
SUMMARY:Live Music-Quinn Hedges
DESCRIPTION:The talented Quinn Hedges is back at DNA! His soulful tunes are a guaranteed good time and great Saturday night at the lounge. Invite your friends and come discover a new favorite wine with us!
URL:https://dnawinelounge.com/event/live-music-quinn-hedges-7/
LOCATION:DNA Wine Lounge\, 9719 Village Center Dr #100\, Granite Bay\, CA\, 95746\, United States
END:VEVENT
BEGIN:VEVENT
DTSTART;TZID=UTC:20250429T180000
DTEND;TZID=UTC:20250429T210000
DTSTAMP:20260422T090341
CREATED:20250331T215806Z
LAST-MODIFIED:20250331T215806Z
UID:1464-1745949600-1745960400@dnawinelounge.com
SUMMARY:Trivia Night
DESCRIPTION:Join us for our weekly Tuesday Trivia Night! Test your knowledge\, drink great wine and enjoy our incredible bites!
URL:https://dnawinelounge.com/event/trivia-night-16/
LOCATION:DNA Wine Lounge\, 9719 Village Center Dr #100\, Granite Bay\, CA\, 95746\, United States
END:VEVENT
END:VCALENDAR